BEGIN:VCALENDAR
VERSION:2.0
PRODID:-//Washington State Hospital Association - ECPv6.15.20//NONSGML v1.0//EN
CALSCALE:GREGORIAN
METHOD:PUBLISH
X-ORIGINAL-URL:https://staging.wsha.org
X-WR-CALDESC:Events for Washington State Hospital Association
REFRESH-INTERVAL;VALUE=DURATION:PT1H
X-Robots-Tag:noindex
X-PUBLISHED-TTL:PT1H
BEGIN:VTIMEZONE
TZID:America/Vancouver
BEGIN:DAYLIGHT
TZOFFSETFROM:-0800
TZOFFSETTO:-0700
TZNAME:PDT
DTSTART:20240310T100000
END:DAYLIGHT
BEGIN:STANDARD
TZOFFSETFROM:-0700
TZOFFSETTO:-0800
TZNAME:PST
DTSTART:20241103T090000
END:STANDARD
BEGIN:DAYLIGHT
TZOFFSETFROM:-0800
TZOFFSETTO:-0700
TZNAME:PDT
DTSTART:20250309T100000
END:DAYLIGHT
BEGIN:STANDARD
TZOFFSETFROM:-0700
TZOFFSETTO:-0800
TZNAME:PST
DTSTART:20251102T090000
END:STANDARD
BEGIN:DAYLIGHT
TZOFFSETFROM:-0800
TZOFFSETTO:-0700
TZNAME:PDT
DTSTART:20260308T100000
END:DAYLIGHT
BEGIN:STANDARD
TZOFFSETFROM:-0700
TZOFFSETTO:-0800
TZNAME:PST
DTSTART:20261101T090000
END:STANDARD
END:VTIMEZONE
BEGIN:VEVENT
DTSTART;TZID=America/Vancouver:20251118T100000
DTEND;TZID=America/Vancouver:20251118T110000
DTSTAMP:20260422T021059
CREATED:20260115T164433Z
LAST-MODIFIED:20260115T164433Z
UID:10001891-1763460000-1763463600@staging.wsha.org
SUMMARY:Webinar: Making the Case for SDOH
DESCRIPTION:With fewer resources and competing priorities\, why should hospitals continue to identify and address patient social drivers of health (SDOH)? This webinar highlights the experiences and lessons learned from three Washington health systems implementing SDOH screening protocols and using data to drive quality improvement programming. \n  \n Learning Objectives:  \n1) Recognize the importance of empowering staff\, addressing discomfort and planning for scale. \n2) Explain what approaches work best for screening and documenting SDOH needs. \n3) Identify best practices for using standard codes to capture SDOH for data analysis. \n  \nNurses will be eligible to receive one continuing education contact hour credit. This event has applied for CECH credit through the California Board of Registered Nursing\, Provider #CEP17702 for 1 contact hour. Approval is pending.
URL:https://staging.wsha.org/events/webinar-making-the-case-for-sdoh/
LOCATION:Zoom
CATEGORIES:Virtual
END:VEVENT
BEGIN:VEVENT
DTSTART;TZID=America/Vancouver:20251118T133000
DTEND;TZID=America/Vancouver:20251118T133000
DTSTAMP:20260422T021059
CREATED:20260115T164435Z
LAST-MODIFIED:20260115T164435Z
UID:10001892-1763472600-1763472600@staging.wsha.org
SUMMARY:TeamBirth for Childbirth Educators\, Doulas\, and Community-Based Midwifery
DESCRIPTION:We are pleased to share an upcoming opportunity to support community engagement and education around TeamBirth. On Tuesday\, November 18th at 4:30 PM\, Ariadne Labs will host a virtual community-based TeamBirth learning session\, offering guidance and resources for those providing education and support to families. \n The program will review ways to introduce TeamBirth to families and share ideas\, insights\, and experiences from work in the community.
URL:https://staging.wsha.org/events/teambirth-for-childbirth-educators-doulas-and-community-based-midwifery/
LOCATION:Zoom
CATEGORIES:Virtual
END:VEVENT
END:VCALENDAR