BEGIN:VCALENDAR
VERSION:2.0
PRODID:-//Washington State Hospital Association - ECPv6.15.20//NONSGML v1.0//EN
CALSCALE:GREGORIAN
METHOD:PUBLISH
X-ORIGINAL-URL:https://staging.wsha.org
X-WR-CALDESC:Events for Washington State Hospital Association
REFRESH-INTERVAL;VALUE=DURATION:PT1H
X-Robots-Tag:noindex
X-PUBLISHED-TTL:PT1H
BEGIN:VTIMEZONE
TZID:America/Vancouver
BEGIN:DAYLIGHT
TZOFFSETFROM:-0800
TZOFFSETTO:-0700
TZNAME:PDT
DTSTART:20240310T100000
END:DAYLIGHT
BEGIN:STANDARD
TZOFFSETFROM:-0700
TZOFFSETTO:-0800
TZNAME:PST
DTSTART:20241103T090000
END:STANDARD
BEGIN:DAYLIGHT
TZOFFSETFROM:-0800
TZOFFSETTO:-0700
TZNAME:PDT
DTSTART:20250309T100000
END:DAYLIGHT
BEGIN:STANDARD
TZOFFSETFROM:-0700
TZOFFSETTO:-0800
TZNAME:PST
DTSTART:20251102T090000
END:STANDARD
BEGIN:DAYLIGHT
TZOFFSETFROM:-0800
TZOFFSETTO:-0700
TZNAME:PDT
DTSTART:20260308T100000
END:DAYLIGHT
BEGIN:STANDARD
TZOFFSETFROM:-0700
TZOFFSETTO:-0800
TZNAME:PST
DTSTART:20261101T090000
END:STANDARD
END:VTIMEZONE
BEGIN:VEVENT
DTSTART;TZID=America/Vancouver:20251119T090000
DTEND;TZID=America/Vancouver:20251119T120000
DTSTAMP:20260423T032424
CREATED:20260115T164421Z
LAST-MODIFIED:20260115T164421Z
UID:10001888-1763542800-1763553600@staging.wsha.org
SUMMARY:Opioid Harm Prevention Symposium
DESCRIPTION:Protecting Every Patient: Hospital Innovations in Opioid Harm Prevention \nA Virtual Conference for Healthcare Leaders\, Clinicians & Community Partners  \nJoin us for a dynamic\, solutions-focused event exploring how hospitals can lead the charge in opioid harm prevention. This conference brings together hospital executives\, clinical teams\, peer advocates\, and community partners to share innovations\, align strategies\, and build actionable plans for safer care.   \nWhat You’ll Learn  \nStatewide Strategy Alignment: Understand how hospitals can support and advance statewide opioid safety missions.  \nSafer Care\, Stronger Communities: Explore hospital-community partnerships that reduce harm and improve outcomes.  \nBoard-Level Priorities & Leadership Impact: Learn how governance and executive leadership drive opioid safety innovation.  \nProvider-Led Success Stories: Discover the power of providers championing and shaping hospital-based harm reduction.  \nAdvancing MOUD in Hospitals: Implement medications for opioid use disorder (MOUD) with proven models and team-building strategies.  \nNaloxone as Standard of Care: Embed naloxone distribution into ED\, inpatient\, and discharge workflows.  \nCommunity Collaboration Models: Align hospital practices with local needs through peer-driven and regional partnerships.  \nFrom Action to Actionability: Build your 90-day strategy to bring opioid safety innovations back to your hospital.  \n  \nWho Should Attend \nHospital Executives • Clinicians • Quality\, Patient Safety\, Pharmacy & Nursing Leaders • Peer Support Specialists • Community Health Partners
URL:https://staging.wsha.org/events/opioid-harm-prevention-symposium/
LOCATION:Zoom
CATEGORIES:Virtual
END:VEVENT
END:VCALENDAR