BEGIN:VCALENDAR
VERSION:2.0
PRODID:-//Washington State Hospital Association - ECPv6.15.20//NONSGML v1.0//EN
CALSCALE:GREGORIAN
METHOD:PUBLISH
X-ORIGINAL-URL:https://staging.wsha.org
X-WR-CALDESC:Events for Washington State Hospital Association
REFRESH-INTERVAL;VALUE=DURATION:PT1H
X-Robots-Tag:noindex
X-PUBLISHED-TTL:PT1H
BEGIN:VTIMEZONE
TZID:America/Vancouver
BEGIN:DAYLIGHT
TZOFFSETFROM:-0800
TZOFFSETTO:-0700
TZNAME:PDT
DTSTART:20240310T100000
END:DAYLIGHT
BEGIN:STANDARD
TZOFFSETFROM:-0700
TZOFFSETTO:-0800
TZNAME:PST
DTSTART:20241103T090000
END:STANDARD
BEGIN:DAYLIGHT
TZOFFSETFROM:-0800
TZOFFSETTO:-0700
TZNAME:PDT
DTSTART:20250309T100000
END:DAYLIGHT
BEGIN:STANDARD
TZOFFSETFROM:-0700
TZOFFSETTO:-0800
TZNAME:PST
DTSTART:20251102T090000
END:STANDARD
BEGIN:DAYLIGHT
TZOFFSETFROM:-0800
TZOFFSETTO:-0700
TZNAME:PDT
DTSTART:20260308T100000
END:DAYLIGHT
BEGIN:STANDARD
TZOFFSETFROM:-0700
TZOFFSETTO:-0800
TZNAME:PST
DTSTART:20261101T090000
END:STANDARD
BEGIN:DAYLIGHT
TZOFFSETFROM:-0800
TZOFFSETTO:-0700
TZNAME:PDT
DTSTART:20270314T100000
END:DAYLIGHT
BEGIN:STANDARD
TZOFFSETFROM:-0700
TZOFFSETTO:-0800
TZNAME:PST
DTSTART:20271107T090000
END:STANDARD
END:VTIMEZONE
BEGIN:VEVENT
DTSTART;TZID=America/Vancouver:20260211T110000
DTEND;TZID=America/Vancouver:20260211T120000
DTSTAMP:20260420T143908
CREATED:20260115T164448Z
LAST-MODIFIED:20260115T164448Z
UID:10001896-1770807600-1770811200@staging.wsha.org
SUMMARY:WSHA and Alston & Bird Webinar:  Cyber Landscape and Trends for Hospitals and Health Systems
DESCRIPTION:  \n\n\n\n\nAs cybersecurity threats continue to evolve\, so too does the regulatory and enforcement landscape. This session will provide timely insights and practical guidance on key issues impacting your organization\, including: \n\n\n\nThe current threat and regulatory landscape for cyber attacks\nFederal and State Agency enforcement trends\nCyber reporting obligations for publicly traded companies\nGovernance considerations for Boards\nBest practices for incident response planning\n\n\n\n  \nWho should attend? C-suite\, General Counsel\, CIO\, CISO\, privacy and security officers\, directors of IT security\, compliance officers\, board members responsible for compliance risk\, and cybersecurity managers.   \n  \nAlston & Bird is the CLE sponsor for this program. CLE credit will be applied for where applicable\, including in Washington State (where application for accreditation is pending).
URL:https://staging.wsha.org/events/wsha-and-alston-bird-webinar-cyber-landscape-and-trends-for-hospitals-and-health-systems/
CATEGORIES:In-Person
END:VEVENT
BEGIN:VEVENT
DTSTART;TZID=America/Vancouver:20260128T000000
DTEND;TZID=America/Vancouver:20260129T000000
DTSTAMP:20260420T143908
CREATED:20260115T164423Z
LAST-MODIFIED:20260115T164423Z
UID:10001889-1769558400-1769644800@staging.wsha.org
SUMMARY:2026 Olympia Advocacy Day
DESCRIPTION:We hope you will be able to join us for the 8th Annual Olympia Advocacy Day! \nRegistration is now CLOSED. For questions regarding registration\, please reach out to Liz. \nDate: Wednesday\, January 28 – Thursday\, January 29 \nLocation: State Capitol\, Olympia \nAudience: Hospital CEOs/administrators\, hospital government affairs staff\, and hospital staff/board members as invited by hospital leadership\n*Please note: We recommend registering no more than three people from your organization as there will likely be office space limitations at the Capitol. \nAttire: Business Professional \nContact: For more information\, please reach out to Liz Cortez\, Advocacy Program Manager\, at LizC@wsha.org \nAgenda*\n*Schedule subject to change \nWednesday\, January 28\n5:30 – 8:00 PM: Welcome Reception & Dinner\nLocation: Ricardo’s & The HUB (676 Woodland Square Loop SE\, Lacey\, WA 98503) \nThursday\, January 29\n7:00 – 9:00 AM: Breakfast\nLocation: Olympic Room\, Hilton Garden Inn (2101 Henderson Park Lane SE\, Olympia) \n7:30 – 8:30 AM: Legislative Briefing \nLocation: Olympic Room\, Hilton Garden Inn (2101 Henderson Park Lane SE\, Olympia) \nLooping shuttle transportation will be provided between the Hilton Garden Inn and the Capitol Campus. \n8:30 AM – 5:00 PM: WSHA Tent\nLocation: Capitol Grounds along N. Diagonal Rd. \n11:00 AM – 2:00 PM: Box Lunch\nLocation: WSHA Tent (Capitol Grounds along N. Diagonal Rd.) \n9:00 AM – 4:00 PM: Legislator Visits \nLocation: State Capitol (416 Sid Snyder Ave. SW\, Olympia) \nLodging\nWSHA has limited room blocks at the Hilton Garden Inn Olympia and the Marriott Courtyard Olympia. These two hotels are next door to each other.\nHilton Garden Inn\n2101 Henderson Park Lane SE\, Olympia\, WA 98501 \nPlease visit this link to book within our room block.  \nGroup Code: WSH | Group Name: WSHA 2026 Hospital Advocacy Day \nTo book via phone please call (360) 236-9934 option 2 \nReservations must be made by December 31\, 2025. \nMarriot Courtyard\n2301 Henderson Park Dr SE\, Olympia\, WA 98501 \nPlease visit this link to book within our room block.  \nGroup Code: WSHAWSHA | Group Name: W.S.H.A. \nTo book via phone please call (360) 943-8448 option 1 \nReservations must be made by December 31\, 2025. \n  \n\nThank You\, Sponsors!\n 
URL:https://staging.wsha.org/events/2026-olympia-advocacy-day/
CATEGORIES:In-Person
END:VEVENT
BEGIN:VEVENT
DTSTART;TZID=America/Vancouver:20260121T090000
DTEND;TZID=America/Vancouver:20260121T130000
DTSTAMP:20260420T143908
CREATED:20260115T164437Z
LAST-MODIFIED:20260115T164437Z
UID:10001893-1768986000-1769000400@staging.wsha.org
SUMMARY:Cybersecurity Conference: Building Cyber Resilience (In Person)
DESCRIPTION:Join us for an engaging cybersecurity workshop designed to equip your organization with actionable strategies and the latest knowledge for defending against evolving threats. Discover essential state and federal resources that can strengthen your resilience and hear firsthand from distinguished local and national experts as they share practical solutions\, real-world experiences\, and proven best practices. The agenda includes: \n  \nCurrent Cyber Threats: Insights from the FBI: Gain an insider’s perspective on today’s most pressing cyber threats in this opening session led by an FBI representative. Attendees will explore the latest tactics\, techniques\, and procedures employed by threat actors\, as well as trends shaping the digital risk landscape. The session will also spotlight collaborative opportunities with the FBI and practical ways to leverage federal resources for stronger organizational defenses. A live Q&A will enable participants to ask targeted questions and receive guidance tailored to their unique security challenges. \n  \nRansomware Simulation with a Ransomware Negotiator: Experience a dynamic\, hands-on simulation of a ransomware attack led by a veteran ransomware negotiator. This session offers a behind-the-scenes look at the entire negotiation process\, from initial contact with threat actors to resolution\, highlighting critical decision points and tactical considerations. Attendees will gain actionable guidance on crisis response\, learn how to avoid common pitfalls\, and explore proven strategies for navigating high-pressure situations. The interactive Q&A will encourage open discussion and provide personalized insights into effective ransomware management. \n  \nLearnings and Takeaways from a Pen Test Expert: This segment will be led by a penetration testing expert\, who will present common vulnerabilities and attack vectors identified through real-world assessments. Attendees will gain firsthand knowledge from examples of successful penetration tests and learn critical lessons that can be applied to their own organizations. The expert will offer actionable recommendations for improving security posture\, helping teams proactively address weaknesses and enhance their defenses. A concluding Q&A session will provide participants with an opportunity to seek tailored advice and clarify best practices. \n\n\n\n\n 
URL:https://staging.wsha.org/events/cybersecurity-conference-building-cyber-resilience-in-person/
CATEGORIES:In-Person
END:VEVENT
BEGIN:VEVENT
DTSTART;TZID=America/Vancouver:20251210T120000
DTEND;TZID=America/Vancouver:20251210T130000
DTSTAMP:20260420T143908
CREATED:20260115T164420Z
LAST-MODIFIED:20260115T164420Z
UID:10001887-1765368000-1765371600@staging.wsha.org
SUMMARY:Virtual AI Roundtable
DESCRIPTION:We are pleased to announce the commencement of our virtual AI member roundtable meetings\, which will be held monthly. The purpose of these roundtables is to provide an environment for collaboration and support for our members in their AI journey. We have developed a high-level roadmap that we will be sharing and seeking member input on. The WSHA AI work plan offers a structured framework to support hospitals in effectively adopting artificial intelligence. Our goal is to help members harness AI technology to improve efficiency\, elevate patient care\, and achieve measurable outcomes. We welcome your input on priority areas where WSHA can best assist members in leveraging AI for greater impact. \n 
URL:https://staging.wsha.org/events/virtual-ai-roundtable-3/
LOCATION:Zoom
CATEGORIES:In-Person
END:VEVENT
BEGIN:VEVENT
DTSTART;TZID=America/Vancouver:20251112T120000
DTEND;TZID=America/Vancouver:20251112T130000
DTSTAMP:20260420T143908
CREATED:20260115T164418Z
LAST-MODIFIED:20260115T164418Z
UID:10001886-1762948800-1762952400@staging.wsha.org
SUMMARY:Virtual AI Roundtable
DESCRIPTION:We are pleased to announce the commencement of our virtual AI member roundtable meetings\, which will be held monthly. The purpose of these roundtables is to provide an environment for collaboration and support for our members in their AI journey. We have developed a high-level roadmap that we will be sharing and seeking member input on. The WSHA AI work plan offers a structured framework to support hospitals in effectively adopting artificial intelligence. Our goal is to help members harness AI technology to improve efficiency\, elevate patient care\, and achieve measurable outcomes. We welcome your input on priority areas where WSHA can best assist members in leveraging AI for greater impact. \nThe registration link below will register you for the rest of the 2025 meetings\, which will be held: \nNovember 12\, 12-1pm \nDecember 10\, 12-1pm
URL:https://staging.wsha.org/events/virtual-ai-roundtable-2/
LOCATION:Zoom
CATEGORIES:In-Person
END:VEVENT
BEGIN:VEVENT
DTSTART;TZID=America/Vancouver:20251106T083000
DTEND;TZID=America/Vancouver:20251106T153000
DTSTAMP:20260420T143908
CREATED:20260115T164339Z
LAST-MODIFIED:20260115T164339Z
UID:10001873-1762417800-1762443000@staging.wsha.org
SUMMARY:Safe Deliveries Roadmap Fall Conference
DESCRIPTION:Topics Include: Induction of Labor\, Medications for Opiate Use Disorder\, Naloxone Distribution Initiative\, Patient Panel Discussion\, and Community Birth Transfer \nOnce registered you will receive a calendar hold from the WSHA calendar with pertinent details regarding directions\, parking etc.  \n \nHave you been working on a quality improvement project\, a new practice\, or an innovative idea \nthat supports safe\, respectful care for birthing people? This is your chance to share it! Get details HERE! \n  \nSee the agenda here
URL:https://staging.wsha.org/events/safe-deliveries-roadmap-fall-conference/
LOCATION:Conference Center at SeaTac\, 17801 International Blvd\, SeaTac\, WA\, 98158\, United States
CATEGORIES:In-Person
END:VEVENT
BEGIN:VEVENT
DTSTART;TZID=America/Vancouver:20251006T000000
DTEND;TZID=America/Vancouver:20251008T000000
DTSTAMP:20260420T143908
CREATED:20260115T164350Z
LAST-MODIFIED:20260115T164350Z
UID:10001877-1759708800-1759881600@staging.wsha.org
SUMMARY:2025 WSHA CEO Retreat
DESCRIPTION:Audience: WSHA Member Hospital & Health System CEOs\, Administrators & Site Leaders \nAttire: Mountain Resort Casual \nRegister here\n\nFeatured Speakers \n\n\n\n\n \nAmy Wong \n\n\n \nAbby Havermann \n\n\n \nNoelle Russell \n\n\n\n\nEvent Agenda\nBy attending the 2025 WSHA CEO Retreat\, participants may earn up to seven ACHE Qualifying Education Hours toward initial certification or recertification of the Fellow of the American College of Healthcare Executives (FACHE) designation. \nMonday\, October 6 \nSalish Lodge \n5:30 – 6:30 pm: PAC Appreciation Happy Hour\n6:30 – 8:30 pm: Welcome Dinner + WSHA Annual Member Business Meeting \nTuesday\, October 7 \nThe Club at Snoqualmie Ridge \n8:00 – 9:00 am: Breakfast\n9:00 – 12:00 pm: \nConversational Intelligence: A Simple Framework to Build Trust\, Strengthen Partnerships and Get More Done\, Amy Wong\nIn this 2-part workshop\, attendees will learn about the art and science of trust to facilitate a free flow of ideas\, foster healthy debate and produce better outcomes with internal and external stakeholders. Attendees will walk away empowered to create and sustain trust with others and ensure mutual success. \n12:00 – 1:00 pm: Networking Lunch \n1:00 – 3:00 pm: \nYour Serenity is The Only Emergency: The Science (and Miracle) of Self-Regulation in Leadership\, Abby Havermann\nResilience isn’t built by controlling the chaos outside — it begins and ends with regulating your inner world. In this fun\, interactive session\, leaders will engage in science-backed tools to reset under pressure\, unlocking clarity\, collaboration\, and well-being that is (quite literally) contagious to the teams they lead. Come with an open mind and heart\, leave inspired and energized to serve your mission with renewed intention and joy. \n5:00 – 8:00 pm: Dinner at Sigillo Cellars \nWednesday\, October 8 \nSalish Lodge \n8:00 – 9:00 am: Breakfast\n9:00 – 10:00 am: Hot Public Policy Issues at the State & Federal Level Ahead of 2026 Session \n10:00 – 12:00 pm: Scaling Responsible AI: From Enthusiasm to Execution\, Noelle Russell\nHear about successful Artificial Intelligence implementation in healthcare and learn about responsible AI deployment and governance as you consider opportunities in your organization. See demonstrations and have the opportunity to hear from members about their learnings and takeaways from their experiences. \nLodging  \nPlease visit this link to book within our WSHA room block.  \nGroup Code: 51468A | Group Name: WSHA CEO Retreat 2025 \nIf you need assistance or would like to book via phone\, please contact the Salish Lodge Group Rooms Coordinator\, Jaeson at 1.800.272.5474\, JBloom@SalishLodge.com \nSalish Lodging must be secured by 9/05/25. Rooms are limited. \nIn the event lodging is not available at Salish Lodge\, we recommend Snoqualmie Casino & Hotel (425) 888-1234 or Snoqualmie Inn (425) 363-3888 as a nearby options. Reservations to be made independently.  \nParking  \nSalish Lodge valet is included for all overnight guests. Parking is complimentary across the street for day guests. Please note that the parking lot adjacent to the Lodge for the park is a pay-to-park. \n\n\nThank You\, Sponsors!
URL:https://staging.wsha.org/events/2025-wsha-ceo-retreat/
CATEGORIES:In-Person
END:VEVENT
BEGIN:VEVENT
DTSTART;TZID=America/Vancouver:20250917T120000
DTEND;TZID=America/Vancouver:20250917T130000
DTSTAMP:20260420T143908
CREATED:20260115T164414Z
LAST-MODIFIED:20260115T164414Z
UID:10001885-1758110400-1758114000@staging.wsha.org
SUMMARY:Virtual AI Roundtable
DESCRIPTION:We are pleased to announce the commencement of our virtual AI member roundtable meetings\, which will be held monthly. The purpose of these roundtables is to provide an environment for collaboration and support for our members in their AI journey. We have developed a high-level roadmap that we will be sharing and seeking member input on. The WSHA AI work plan offers a structured framework to support hospitals in effectively adopting artificial intelligence. Our goal is to help members harness AI technology to improve efficiency\, elevate patient care\, and achieve measurable outcomes. We welcome your input on priority areas where WSHA can best assist members in leveraging AI for greater impact. \nThe registration link below will register you for the rest of the 2025 meetings\, which will be held: \nSeptember 17\, 12-1pm \n  \nNovember 12\, 12-1pm \nDecember 10\, 12-1pm \n 
URL:https://staging.wsha.org/events/virtual-ai-roundtable/
LOCATION:Zoom
CATEGORIES:In-Person
END:VEVENT
BEGIN:VEVENT
DTSTART;TZID=America/Vancouver:20250827T100000
DTEND;TZID=America/Vancouver:20250827T140000
DTSTAMP:20260420T143908
CREATED:20260115T164404Z
LAST-MODIFIED:20260115T164404Z
UID:10001881-1756288800-1756303200@staging.wsha.org
SUMMARY:Regional Rural Quality Roundtable - Lincoln Hospital
DESCRIPTION:Rural quality teams\, please join us this summer at a hospital near you! WSHA is partnering with our members to host three regional roundtables in the month of August. Each meeting will be from 10am to 2pm and will include lunch\, a hospital tour\, and at least one quality improvement topic discussion or workshop. Full agendas will be announced soon . This a new program for WSHA’s rural quality work and provides a unique opportunity to connect and collaborate with rural quality colleagues from similar hospitals. \nSchedule: \n\nAugust 1\, 2025: Summit Pacific Medical Center (Elma\, WA)\nAugust 15\, 2025: Prosser Memorial Hospital (Prosser\, WA)\nAugust 27\, 2025: Lincoln Hospital (Davenport\, WA)
URL:https://staging.wsha.org/events/regional-rural-quality-roundtable-lincoln-hospital/
CATEGORIES:In-Person
END:VEVENT
BEGIN:VEVENT
DTSTART;TZID=America/Vancouver:20250815T100000
DTEND;TZID=America/Vancouver:20250815T140000
DTSTAMP:20260420T143908
CREATED:20260115T164355Z
LAST-MODIFIED:20260115T164355Z
UID:10001880-1755252000-1755266400@staging.wsha.org
SUMMARY:Regional Rural Quality Roundtable -  Prosser Memorial
DESCRIPTION:Rural quality teams\, please join us this summer at a hospital near you! WSHA is partnering with our members to host three regional roundtables in the month of August. Each meeting will be from 10am to 2pm and will include lunch\, a hospital tour\, and at least one quality improvement topic discussion or workshop. Full agendas will be announced soon. This a new program for WSHA’s rural quality work and provides a unique opportunity to connect and collaborate with rural quality colleagues from similar hospitals. \nSchedule: \n\nAugust 1\, 2025: Summit Pacific Medical Center (Elma\, WA)\nAugust 15\, 2025: Prosser Memorial Hospital (Prosser\, WA)\nAugust 27\, 2025: Lincoln Hospital (Davenport\, WA)
URL:https://staging.wsha.org/events/regional-rural-quality-roundtable-prosser-memorial/
CATEGORIES:In-Person
END:VEVENT
BEGIN:VEVENT
DTSTART;TZID=America/Vancouver:20250813T090000
DTEND;TZID=America/Vancouver:20250813T130000
DTSTAMP:20260420T143908
CREATED:20260115T164410Z
LAST-MODIFIED:20260115T164410Z
UID:10001883-1755075600-1755090000@staging.wsha.org
SUMMARY:WSHA 2025 Cybersecurity Conference: Threats to Washington State Health Care Security
DESCRIPTION:We invite you to attend this cybersecurity conference to better understand the state and federal resources at your disposal. Come learn from local and national experts about their observations and lessons learned for maintaining security. \nPlease share this invite with your fellow CEO\, CISO\, CIO\, Legal and IT colleagues and we look forward to having you join us at this event. \nCISA: The Cybersecurity and Infrastructure Security Agency: Our speaker from CISA will provide valuable insights into the current threat landscape and will share information on a range of services to help hospitals enhance their security measures and resilience. \nEvolving Cyber Security: Innovation\, Optimization\, and Response in a Shifting Threat Landscape: Cybersecurity challenges are constantly evolving\, with attackers employing sophisticated techniques to breach defenses and access sensitive information. ScaledData gives advice on how organizations can stay vigilant and adapt to the shifting threat landscape to protect their assets and maintain operational resilience. \nMember Panel: Vendor Due Diligence and Third-Party Risk: Third-party vendors often have access to sensitive data and systems\, making them prime targets for cyberattacks. Hear firsthand how your peers manage vendor due diligence and third-party risk. \nJoin us after the presentations for an Ask the Experts/Networking Lunch!
URL:https://staging.wsha.org/events/wsha-2025-cybersecurity-conference-threats-to-washington-state-health-care-security/
LOCATION:Conference Center at SeaTac\, 17801 International Blvd\, SeaTac\, WA\, 98158\, United States
CATEGORIES:In-Person
END:VEVENT
BEGIN:VEVENT
DTSTART;TZID=America/Vancouver:20250801T100000
DTEND;TZID=America/Vancouver:20250801T140000
DTSTAMP:20260420T143908
CREATED:20260115T164353Z
LAST-MODIFIED:20260115T164353Z
UID:10001879-1754042400-1754056800@staging.wsha.org
SUMMARY:Regional Rural Quality Roundtable - Summit Pacific
DESCRIPTION:Rural quality teams\, please join us this summer at a hospital near you! WSHA is partnering with our members to host three regional roundtables in the month of August. Each meeting will be from 10am to 2pm and will include lunch\, a hospital tour\, and at least one quality improvement topic discussion or workshop. Full agendas will be announced soon. This a new program for WSHA’s rural quality work and provides a unique opportunity to connect and collaborate with rural quality colleagues from similar hospitals. \nSchedule: \n\nAugust 1\, 2025: Summit Pacific Medical Center (Elma\, WA)\nAugust 15\, 2025: Prosser Memorial Hospital (Prosser\, WA)\nAugust 27\, 2025: Lincoln Hospital (Davenport\, WA)
URL:https://staging.wsha.org/events/regional-rural-quality-roundtable-summit-pacific/
CATEGORIES:In-Person
END:VEVENT
BEGIN:VEVENT
DTSTART;TZID=America/Vancouver:20250622T000000
DTEND;TZID=America/Vancouver:20250625T000000
DTSTAMP:20260420T143908
CREATED:20260115T164343Z
LAST-MODIFIED:20260115T164343Z
UID:10001875-1750550400-1750809600@staging.wsha.org
SUMMARY:2025 AWPHD & WSHA Rural Hospital Leadership Conference
DESCRIPTION:Audience: Rural & Public Hospital District C-Suite Leaders\, Board Members\, Trustees\, and Commissioners  \nAttire: Resort Casual \nRegister here\n\nFeatured Speakers \n\n\n\n\n \nAbby Havermann\nReclaiming Purpose\, Power & Presence \n\n\n \nRyan Campbell\nWhat’s Your Pink Cadillac? \n\n\n\n\n \nCindy Reynolds\nHospital Foundations \n\n\n \nCraig Deao\nHealthcare Governance \n\n\n\n\nEvent Agenda\nsubject to change \n  \nSunday\, June 22 \n3:30 PM | Conference Registration Opens \n7:00 PM – 8:00 PM | Ice Cream Social \n  \nMonday\, June 23 \n8:00 AM – 9:00 AM | Breakfast \n9:05 AM – 10:00 AM | Backroad Burnout: Reclaiming Purpose\, Power & Presence in a Role that Never Rests\, Abby Havermann \n10:00 AM – 10:50 AM |Best Practices for Successful Hospital Foundations\, Cindy Reynolds \n11:00 AM – 11:50 AM | Breakouts \n\nOne Hospital’s Unique Journey to Capital Financing\, Matt Ellsworth\, AWPHD\, Josh Martin\, Summit Pacific Medical Center\, Caitlin Caldwell\, Cain Brothers\, a division of KeyBanc Capital Markets\nMember Advocacy in Action: Tales from Olympia & D.C.\, Jacqueline Barton True\, WSHA + Member Panel\n\n12:00 PM – 12:45 PM | Networking Lunch \n12:45 PM – 2:00 PM | Cyber Risk Management is a Boardroom Issue\, Chad Schmitt\, Scaled Health + Member Panel \n4:00 PM – 6:00 PM | Reception at Harmony Meadows Tennis Resort* sponsored by Cain Brothers\, a division of KeyBanc Capital Markets \n*Guests of all ages are welcome. Guest ticket required for guests 21 and over. Shuttles provided.  \n  \nTuesday\, June 24               \n8:00 AM – 9:00 AM | Breakfast \n9:00 AM – 9:50 AM | Defending Against a One-Two Punch: State and Federal Budget and Policy\, WSHA Staff \n9:50 AM – 10:20 AM | Deeper Dive: What Happens if you Need to Cut or Close Services…Or Even a Whole Hospital? \n10:30 AM – 11:20 AM | Breakouts \n\nEngaging Your Board in its Role of Safety & Quality\, WSHA Staff + Member Panel\nThe Board’s Role in CEO Succession Planning\, Craig Deao\n\n11:30 AM – 1:00 PM Lunch Program | Guidance for Public Hospital Districts in Open Public Meetings & Records Rules\, Harry Boesche\, MRSC \n11:30 AM – 1:00 PM | CEO & Board Chair Meeting \n1:00 PM – 2:00 PM | What’s Your Pink Cadillac? Ryan Campbell \n5:30 PM – 7:30 PM | BBQ on the Beach* \n*Guests of all ages are welcome. No guest ticket required. \n  \nWednesday\, June 25    \n8:00 AM – 9:00 AM | Breakfast \n8:00 AM – 9:15 AM | AWPHD Board Meeting \n9:30 AM – 10:00 AM | AWPHD All-Member Meeting \n10:00 AM – 11:00 AM | High Functioning Boards\, Craig Deao \n11:00 AM – 12:00 PM | Securing the Future of Rural Health with AI Skilling and Innovation\, Laura Kreofsky\, Microsoft Philanthropies \n  \nLodging Information \nPlease contact Campbell’s at 800-553-8225 to inquire about lodging availability and reference our group block name: WA St Hospital Association. If they are sold out\, they can place you on their waiting list in case of cancellations.   \nWe have coordinated an additional room block with Lakeside Lodge which is 6-minutes away from Campbell’s. To book within our room block\, please contact Lakeside 509-682-4396 and reference the Washington State Hospital Association room block. \n\n\nThank You\, Sponsors!
URL:https://staging.wsha.org/events/2025-awphd-wsha-rural-hospital-leadership-conference/
CATEGORIES:In-Person
END:VEVENT
BEGIN:VEVENT
DTSTART;TZID=America/Vancouver:20250320T083000
DTEND;TZID=America/Vancouver:20250320T143000
DTSTAMP:20260420T143908
CREATED:20260115T164341Z
LAST-MODIFIED:20260115T164341Z
UID:10001874-1742459400-1742481000@staging.wsha.org
SUMMARY:Registration open for WSHA’s Spring Quality Leader Learning Collaborative
DESCRIPTION:WSHA Executive and Senior Clinical and Quality Leaders are invited to WSHA’s Spring Quality Leader Learning Collaborative March 20\, where we’ll share insights and learn from the experiences of experts. Participants will explore how artificial intelligence is revolutionizing patient care and streamlining operations while making healthcare more efficient and effective. \nWe’ll also dive into strategies to bolster board engagement and leadership\, address climate change and support environmental stewardship in health care\, ensuring a sustainable future for our communities. \nContact WSHA Senior Director of Clinical Excellence and Rural Programs Tracy Wellington at tracyw@wsha.org with any questions.
URL:https://staging.wsha.org/events/registration-open-for-wshas-spring-quality-leader-learning-collaborative/
LOCATION:Conference Center at SeaTac\, 17801 International Blvd\, SeaTac\, WA\, 98158\, United States
CATEGORIES:In-Person
END:VEVENT
BEGIN:VEVENT
DTSTART;TZID=America/Vancouver:20250210T173000
DTEND;TZID=America/Vancouver:20250211T170000
DTSTAMP:20260420T143908
CREATED:20260115T164335Z
LAST-MODIFIED:20260115T164335Z
UID:10001871-1739208600-1739293200@staging.wsha.org
SUMMARY:2025 Hospital Advocacy Day
DESCRIPTION:Hospital Advocacy Day is an opportunity for hospital leaders to meet with local lawmakers to advocate for health care priorities and share stories from their hospital. To help prepare for these meetings\, WSHA will provide a virtual briefing in advance and schedule meetings with lawmakers. \nDate: Monday\, February 10\, 2025 – Tuesday\, February 11\, 2025 \nLocation: State Capitol\, Olympia \nAudience: Hospital CEOs/administrators\, hospital government affairs staff\, and hospital staff/board members as invited by hospital leadership*\n*Please note: We recommend registering no more than three people from your organization as there will likely be office space limitations at the Capitol. \nAttire: Business Professional \nRegistration: Please click here to register by December 3\, 2024. \nContact: For more information please reach out to Liz Cortez\, Advocacy Program Manager\, at LizC@wsha.org \n  \nAgenda*\n*schedule subject to change \nMonday\, February 10 \n•    5:30 – 8:00 PM: Welcome Reception and Dinner – The Hub at Lacey (676 Woodland Square Loop SE\, Lacey) \nTuesday\, February 11 \n•    7:00 – 8:00 AM:  Breakfast – Capitol Room\, Hampton Inn & Suites (4301 Martin Way E\, Olympia) \nShuttle transportation will be provided between the Hampton Inn and the Capitol on February 11. \n•    8:00 – 9:00 AM: Legislative Briefing – Capitol Room\, Hampton Inn & Suites (4301 Martin Way E\, Olympia) \n•    9:30 AM – 5:00 PM: Legislator Visits – State Capitol (416 Sid Snyder Ave SW\, Olympia) \nLodging \nWSHA has a limited room block at the Hampton Inn & Suites\, Olympia/Lacey. Please click here to make your reservation.  Under the special rates tab input the code: WHA. The room block will remain open until January 20\, but we encourage you to reserve a room before then as this room block will fill quickly.
URL:https://staging.wsha.org/events/2025-hospital-advocacy-day/
CATEGORIES:In-Person
END:VEVENT
END:VCALENDAR