BEGIN:VCALENDAR
VERSION:2.0
PRODID:-//Washington State Hospital Association - ECPv6.15.20//NONSGML v1.0//EN
CALSCALE:GREGORIAN
METHOD:PUBLISH
X-WR-CALNAME:Washington State Hospital Association
X-ORIGINAL-URL:https://staging.wsha.org
X-WR-CALDESC:Events for Washington State Hospital Association
REFRESH-INTERVAL;VALUE=DURATION:PT1H
X-Robots-Tag:noindex
X-PUBLISHED-TTL:PT1H
BEGIN:VTIMEZONE
TZID:America/Vancouver
BEGIN:DAYLIGHT
TZOFFSETFROM:-0800
TZOFFSETTO:-0700
TZNAME:PDT
DTSTART:20250309T100000
END:DAYLIGHT
BEGIN:STANDARD
TZOFFSETFROM:-0700
TZOFFSETTO:-0800
TZNAME:PST
DTSTART:20251102T090000
END:STANDARD
BEGIN:DAYLIGHT
TZOFFSETFROM:-0800
TZOFFSETTO:-0700
TZNAME:PDT
DTSTART:20260308T100000
END:DAYLIGHT
BEGIN:STANDARD
TZOFFSETFROM:-0700
TZOFFSETTO:-0800
TZNAME:PST
DTSTART:20261101T090000
END:STANDARD
BEGIN:DAYLIGHT
TZOFFSETFROM:-0800
TZOFFSETTO:-0700
TZNAME:PDT
DTSTART:20270314T100000
END:DAYLIGHT
BEGIN:STANDARD
TZOFFSETFROM:-0700
TZOFFSETTO:-0800
TZNAME:PST
DTSTART:20271107T090000
END:STANDARD
END:VTIMEZONE
BEGIN:VEVENT
DTSTART;TZID=America/Vancouver:20260320T100000
DTEND;TZID=America/Vancouver:20260320T113000
DTSTAMP:20260420T091923
CREATED:20260226T232143Z
LAST-MODIFIED:20260226T232228Z
UID:10001921-1774000800-1774006200@staging.wsha.org
SUMMARY:Sepsis Spring Learning Event
DESCRIPTION:Join us as Washington State Hospital members and other colleagues share recent sepsis projects including sepsis patient advisory councils\, sepsis in the oncology population\, sepsis order sets\, readmissions\, SEP-1 compliance\, and more! \nClick Here to Register \nAPPROVAL IS PENDING for Continuing Education Credit Hours. WSHA is a provider approved by the California Board of Registered Nursing\, Provider # CEP17702. Number of contact hours will be updated once approval has been granted.
URL:https://staging.wsha.org/events/sepsis-spring-learning-event/
LOCATION:Zoom
CATEGORIES:Virtual
ORGANIZER;CN="Rosemary Grant":MAILTO:RosemaryG@wsha.org
END:VEVENT
END:VCALENDAR