BEGIN:VCALENDAR
VERSION:2.0
PRODID:-//Washington State Hospital Association - ECPv6.15.20//NONSGML v1.0//EN
CALSCALE:GREGORIAN
METHOD:PUBLISH
X-ORIGINAL-URL:https://staging.wsha.org
X-WR-CALDESC:Events for Washington State Hospital Association
REFRESH-INTERVAL;VALUE=DURATION:PT1H
X-Robots-Tag:noindex
X-PUBLISHED-TTL:PT1H
BEGIN:VTIMEZONE
TZID:America/Vancouver
BEGIN:DAYLIGHT
TZOFFSETFROM:-0800
TZOFFSETTO:-0700
TZNAME:PDT
DTSTART:20250309T100000
END:DAYLIGHT
BEGIN:STANDARD
TZOFFSETFROM:-0700
TZOFFSETTO:-0800
TZNAME:PST
DTSTART:20251102T090000
END:STANDARD
BEGIN:DAYLIGHT
TZOFFSETFROM:-0800
TZOFFSETTO:-0700
TZNAME:PDT
DTSTART:20260308T100000
END:DAYLIGHT
BEGIN:STANDARD
TZOFFSETFROM:-0700
TZOFFSETTO:-0800
TZNAME:PST
DTSTART:20261101T090000
END:STANDARD
BEGIN:DAYLIGHT
TZOFFSETFROM:-0800
TZOFFSETTO:-0700
TZNAME:PDT
DTSTART:20270314T100000
END:DAYLIGHT
BEGIN:STANDARD
TZOFFSETFROM:-0700
TZOFFSETTO:-0800
TZNAME:PST
DTSTART:20271107T090000
END:STANDARD
END:VTIMEZONE
BEGIN:VEVENT
DTSTART;TZID=America/Vancouver:20260430T120000
DTEND;TZID=America/Vancouver:20260430T130000
DTSTAMP:20260421T194110
CREATED:20260316T170735Z
LAST-MODIFIED:20260316T171005Z
UID:10001936-1777550400-1777554000@staging.wsha.org
SUMMARY:New CMS Maternal Safety Requirements for Hospitals Webinar
DESCRIPTION:REGISTER HERE \n \nCMS Webinar Flyer 4.30.26
URL:https://staging.wsha.org/events/new-cms-maternal-safety-requirements-for-hospitals-webinar/
LOCATION:Zoom
CATEGORIES:Virtual
ATTACH;FMTTYPE=image/jpeg:https://staging.wsha.org/webfoo/wp-content/uploads/CMS-Webinar-4.30.26.jpg
END:VEVENT
END:VCALENDAR