BEGIN:VCALENDAR
VERSION:2.0
PRODID:-//Washington State Hospital Association - ECPv6.15.20//NONSGML v1.0//EN
CALSCALE:GREGORIAN
METHOD:PUBLISH
X-WR-CALNAME:Washington State Hospital Association
X-ORIGINAL-URL:https://staging.wsha.org
X-WR-CALDESC:Events for Washington State Hospital Association
REFRESH-INTERVAL;VALUE=DURATION:PT1H
X-Robots-Tag:noindex
X-PUBLISHED-TTL:PT1H
BEGIN:VTIMEZONE
TZID:America/Vancouver
BEGIN:DAYLIGHT
TZOFFSETFROM:-0800
TZOFFSETTO:-0700
TZNAME:PDT
DTSTART:20240310T100000
END:DAYLIGHT
BEGIN:STANDARD
TZOFFSETFROM:-0700
TZOFFSETTO:-0800
TZNAME:PST
DTSTART:20241103T090000
END:STANDARD
BEGIN:DAYLIGHT
TZOFFSETFROM:-0800
TZOFFSETTO:-0700
TZNAME:PDT
DTSTART:20250309T100000
END:DAYLIGHT
BEGIN:STANDARD
TZOFFSETFROM:-0700
TZOFFSETTO:-0800
TZNAME:PST
DTSTART:20251102T090000
END:STANDARD
BEGIN:DAYLIGHT
TZOFFSETFROM:-0800
TZOFFSETTO:-0700
TZNAME:PDT
DTSTART:20260308T100000
END:DAYLIGHT
BEGIN:STANDARD
TZOFFSETFROM:-0700
TZOFFSETTO:-0800
TZNAME:PST
DTSTART:20261101T090000
END:STANDARD
END:VTIMEZONE
BEGIN:VEVENT
DTSTART;TZID=America/Vancouver:20250801T100000
DTEND;TZID=America/Vancouver:20250801T140000
DTSTAMP:20260422T100607
CREATED:20260115T164353Z
LAST-MODIFIED:20260115T164353Z
UID:10001879-1754042400-1754056800@staging.wsha.org
SUMMARY:Regional Rural Quality Roundtable - Summit Pacific
DESCRIPTION:Rural quality teams\, please join us this summer at a hospital near you! WSHA is partnering with our members to host three regional roundtables in the month of August. Each meeting will be from 10am to 2pm and will include lunch\, a hospital tour\, and at least one quality improvement topic discussion or workshop. Full agendas will be announced soon. This a new program for WSHA’s rural quality work and provides a unique opportunity to connect and collaborate with rural quality colleagues from similar hospitals. \nSchedule: \n\nAugust 1\, 2025: Summit Pacific Medical Center (Elma\, WA)\nAugust 15\, 2025: Prosser Memorial Hospital (Prosser\, WA)\nAugust 27\, 2025: Lincoln Hospital (Davenport\, WA)
URL:https://staging.wsha.org/events/regional-rural-quality-roundtable-summit-pacific/
CATEGORIES:In-Person
END:VEVENT
BEGIN:VEVENT
DTSTART;TZID=America/Vancouver:20250813T090000
DTEND;TZID=America/Vancouver:20250813T130000
DTSTAMP:20260422T100607
CREATED:20260115T164410Z
LAST-MODIFIED:20260115T164410Z
UID:10001883-1755075600-1755090000@staging.wsha.org
SUMMARY:WSHA 2025 Cybersecurity Conference: Threats to Washington State Health Care Security
DESCRIPTION:We invite you to attend this cybersecurity conference to better understand the state and federal resources at your disposal. Come learn from local and national experts about their observations and lessons learned for maintaining security. \nPlease share this invite with your fellow CEO\, CISO\, CIO\, Legal and IT colleagues and we look forward to having you join us at this event. \nCISA: The Cybersecurity and Infrastructure Security Agency: Our speaker from CISA will provide valuable insights into the current threat landscape and will share information on a range of services to help hospitals enhance their security measures and resilience. \nEvolving Cyber Security: Innovation\, Optimization\, and Response in a Shifting Threat Landscape: Cybersecurity challenges are constantly evolving\, with attackers employing sophisticated techniques to breach defenses and access sensitive information. ScaledData gives advice on how organizations can stay vigilant and adapt to the shifting threat landscape to protect their assets and maintain operational resilience. \nMember Panel: Vendor Due Diligence and Third-Party Risk: Third-party vendors often have access to sensitive data and systems\, making them prime targets for cyberattacks. Hear firsthand how your peers manage vendor due diligence and third-party risk. \nJoin us after the presentations for an Ask the Experts/Networking Lunch!
URL:https://staging.wsha.org/events/wsha-2025-cybersecurity-conference-threats-to-washington-state-health-care-security/
LOCATION:Conference Center at SeaTac\, 17801 International Blvd\, SeaTac\, WA\, 98158\, United States
CATEGORIES:In-Person
END:VEVENT
BEGIN:VEVENT
DTSTART;TZID=America/Vancouver:20250815T100000
DTEND;TZID=America/Vancouver:20250815T140000
DTSTAMP:20260422T100607
CREATED:20260115T164355Z
LAST-MODIFIED:20260115T164355Z
UID:10001880-1755252000-1755266400@staging.wsha.org
SUMMARY:Regional Rural Quality Roundtable -  Prosser Memorial
DESCRIPTION:Rural quality teams\, please join us this summer at a hospital near you! WSHA is partnering with our members to host three regional roundtables in the month of August. Each meeting will be from 10am to 2pm and will include lunch\, a hospital tour\, and at least one quality improvement topic discussion or workshop. Full agendas will be announced soon. This a new program for WSHA’s rural quality work and provides a unique opportunity to connect and collaborate with rural quality colleagues from similar hospitals. \nSchedule: \n\nAugust 1\, 2025: Summit Pacific Medical Center (Elma\, WA)\nAugust 15\, 2025: Prosser Memorial Hospital (Prosser\, WA)\nAugust 27\, 2025: Lincoln Hospital (Davenport\, WA)
URL:https://staging.wsha.org/events/regional-rural-quality-roundtable-prosser-memorial/
CATEGORIES:In-Person
END:VEVENT
BEGIN:VEVENT
DTSTART;TZID=America/Vancouver:20250820T110000
DTEND;TZID=America/Vancouver:20250820T120000
DTSTAMP:20260422T100607
CREATED:20260115T164413Z
LAST-MODIFIED:20260115T164413Z
UID:10001884-1755687600-1755691200@staging.wsha.org
SUMMARY:From Awareness to Action: Hospital Strategies for Opioid Overdose Prevention
DESCRIPTION:  \n  \n  \n  \n  \n  \n\n\n \n\nInternational Overdose Awareness Day is held each year on August 31st and serves as a time to promote education about overdose prevention\, honor the lives of individuals lost to overdose\, and identify concrete steps everyone can take to prevent overdose. Hospital teams are uniquely positioned to work on opioid overdose prevention and across Washington state\, healthcare professionals are already leading the way to reduce overdose deaths. While we did see a decrease in overdose deaths in 2024\, there were still over 3\,000 lives lost\, and the landscape of what drugs are leading to overdose continues to shift. \nJoin WSHA for a webinar in honor of International Overdose Awareness Day and learn concrete strategies all hospitals can use to help prevent opioid overdose. \nLearning objectives:\n– Describe current overdose rates statewide and highlight new and emerging areas of concern\n– Demonstrate at least three hospital opportunities to impact overdose rates\n– Identify free resources available for hospitals
URL:https://staging.wsha.org/events/from-awareness-to-action-hospital-strategies-for-opioid-overdose-prevention/
LOCATION:Zoom
CATEGORIES:Virtual
END:VEVENT
BEGIN:VEVENT
DTSTART;TZID=America/Vancouver:20250827T100000
DTEND;TZID=America/Vancouver:20250827T140000
DTSTAMP:20260422T100607
CREATED:20260115T164404Z
LAST-MODIFIED:20260115T164404Z
UID:10001881-1756288800-1756303200@staging.wsha.org
SUMMARY:Regional Rural Quality Roundtable - Lincoln Hospital
DESCRIPTION:Rural quality teams\, please join us this summer at a hospital near you! WSHA is partnering with our members to host three regional roundtables in the month of August. Each meeting will be from 10am to 2pm and will include lunch\, a hospital tour\, and at least one quality improvement topic discussion or workshop. Full agendas will be announced soon . This a new program for WSHA’s rural quality work and provides a unique opportunity to connect and collaborate with rural quality colleagues from similar hospitals. \nSchedule: \n\nAugust 1\, 2025: Summit Pacific Medical Center (Elma\, WA)\nAugust 15\, 2025: Prosser Memorial Hospital (Prosser\, WA)\nAugust 27\, 2025: Lincoln Hospital (Davenport\, WA)
URL:https://staging.wsha.org/events/regional-rural-quality-roundtable-lincoln-hospital/
CATEGORIES:In-Person
END:VEVENT
END:VCALENDAR