BEGIN:VCALENDAR
VERSION:2.0
PRODID:-//Washington State Hospital Association - ECPv6.15.15//NONSGML v1.0//EN
CALSCALE:GREGORIAN
METHOD:PUBLISH
X-WR-CALNAME:Washington State Hospital Association
X-ORIGINAL-URL:https://staging.wsha.org
X-WR-CALDESC:Events for Washington State Hospital Association
REFRESH-INTERVAL;VALUE=DURATION:PT1H
X-Robots-Tag:noindex
X-PUBLISHED-TTL:PT1H
BEGIN:VTIMEZONE
TZID:America/Vancouver
BEGIN:DAYLIGHT
TZOFFSETFROM:-0800
TZOFFSETTO:-0700
TZNAME:PDT
DTSTART:20250309T100000
END:DAYLIGHT
BEGIN:STANDARD
TZOFFSETFROM:-0700
TZOFFSETTO:-0800
TZNAME:PST
DTSTART:20251102T090000
END:STANDARD
BEGIN:DAYLIGHT
TZOFFSETFROM:-0800
TZOFFSETTO:-0700
TZNAME:PDT
DTSTART:20260308T100000
END:DAYLIGHT
BEGIN:STANDARD
TZOFFSETFROM:-0700
TZOFFSETTO:-0800
TZNAME:PST
DTSTART:20261101T090000
END:STANDARD
BEGIN:DAYLIGHT
TZOFFSETFROM:-0800
TZOFFSETTO:-0700
TZNAME:PDT
DTSTART:20270314T100000
END:DAYLIGHT
BEGIN:STANDARD
TZOFFSETFROM:-0700
TZOFFSETTO:-0800
TZNAME:PST
DTSTART:20271107T090000
END:STANDARD
END:VTIMEZONE
BEGIN:VEVENT
DTSTART;TZID=America/Vancouver:20260501T080000
DTEND;TZID=America/Vancouver:20260501T143000
DTSTAMP:20260420T071749
CREATED:20260304T195256Z
LAST-MODIFIED:20260416T181738Z
UID:10001924-1777622400-1777645800@staging.wsha.org
SUMMARY:Quality Leader Learning Collaborative - Spring
DESCRIPTION:Audience \nExecutive and Senior Clinical and Quality Leaders \nHighlights \n\nExperience breakthrough innovations that are transforming safety and quality\nEnjoy dedicated\, meaningful networking time woven throughout the agenda\nCollaborate\, share\, and spark creativity with colleagues\nFuel your day with complimentary breakfast and lunch\nWashington hospitals attend for free\n\nAgenda Topics \n\nAdvancing a Safer Healthcare Workforce\nLeading with Accountability and Compassion\nLeveraging Collective Insight for Better Care\nState and Federal Policy Impacts on Washington State Hospitals\nElevating Care Teams Through Community\nCultivating Self-Compassion and Compassion for Others\n\nRegistration required. Registration has closed. \nClick here to view event materials.
URL:https://staging.wsha.org/events/quality-leader-learning-collab-spring-2026/
LOCATION:Conference Center at SeaTac\, 17801 International Blvd\, SeaTac\, WA\, 98158\, United States
CATEGORIES:In-Person
ATTACH;FMTTYPE=image/png:https://staging.wsha.org/webfoo/wp-content/uploads/2026.05.01-QLLC-Flyer.png
END:VEVENT
BEGIN:VEVENT
DTSTART;TZID=America/Vancouver:20260501T120000
DTEND;TZID=America/Vancouver:20260501T130000
DTSTAMP:20260420T071749
CREATED:20260326T204655Z
LAST-MODIFIED:20260326T211058Z
UID:10001945-1777636800-1777640400@staging.wsha.org
SUMMARY:External Webinar: Incorporating Lived/Living Experience into SUD Clinical Design
DESCRIPTION:This external webinar is hosted by University of Washington Addictions\, Drug & Alcohol Institute. \nJoin our three-part series showcasing how incorporating lived and living experience can transform substance use disorder (SUD) clinical design. Hear from facilitators\, healthcare professionals\, and community members who shape community advisory boards (CABs) and lived experience advisory boards (LEABs).\nTopics:\n\nMarch 27th – LEAB Facilitators: From Creation to Clinic Opening\nApril 3rd – Panel Discussion: CABs in Different Settings\nApril 10th – Panel Discussion: LEAB/CAB Member Perspectives\n\nSpeakers & Panelists:\n\nLeiLani Dawn\, MA-P\, CPSS\nMandy Sladky\, MSN\, RN\nTeresa Winstead\, PhD\, MA\nMandy Owens\, PhD\nTessa Frohe\, PhD\nDavid Almeida\, Program Coordinator\nMarlene Gallichan\, Peer Support Specialist\nOmeid Heidari\, PhD\, MPH\, ANP-C\nLEAB/CAB members from DESC ORCA Center\, Hobson SHIP Program\, CLEARS Project\, READU\, HaRRT Center\, and SAIA\n\nWho should attend: The intended audience for this series is for anyone in Washington State involved in the care of people who use drugs and people living with substance use disorder (SUD). All disciplines are welcome and encouraged to join. This webinar is funded by the State Opioid Response (SOR) grant from the Substance Abuse and Mental Health Services Administration (SAMHSA)\, and is provided by the University of Washington’s Addictions\, \nClick Here to Register Here
URL:https://staging.wsha.org/events/external-webinar-psychedelics-for-opioid-use-disorder-2/2026-05-01/
CATEGORIES:Virtual
END:VEVENT
BEGIN:VEVENT
DTSTART;TZID=America/Vancouver:20260506T120000
DTEND;TZID=America/Vancouver:20260506T130000
DTSTAMP:20260420T071749
CREATED:20260326T211559Z
LAST-MODIFIED:20260326T211559Z
UID:10002052-1778068800-1778072400@staging.wsha.org
SUMMARY:External Webinar: Frontline Conversations: Advancing SUD Care in Clinical Practice
DESCRIPTION:This external webinar is hosted by University of Washington Addictions\, Drug & Alcohol Institute. \nJoin this 4-part webinar series\, facilitated by Mark Duncan\, MD and Maureen Oscadal\, RN\, MPH\, BSN\, to explore emerging practices in the care of people living with substance use disorder (SUD). \nThis series features brief presentations and panel discussions with expert community providers on the topics listed below. A Q&A session for all participants will take place after the facilitated discussion. \nSeries Schedule \n\nMay 6\, 2026 12:00 PM \nAugust 6\, 2026 12:00 PM\nNovember 4\, 2026 12:00 PM\n\nTopics:\n\nAdolescent OUD Treatment: Closing the gap\nTrauma & SUD: Trauma informed care is not enough\nInvoluntary SUD Treatment in WA: When and How?\n7-OH: Treatment Considerations for the New\, More Potent Kratom\n\nWho should attend: The intended audience for this series is for anyone in Washington State involved in the care of people who use drugs and people living with SUD. All disciplines are welcome and encouraged to join. \nThis series is funded by the State Opioid Response (SOR) grant from the Substance Abuse and Mental Health Services Administration (SAMHSA) and is provided by the University of Washington’s Addictions Drug & Alcohol Institute.  \n\nClick Here to Register Here
URL:https://staging.wsha.org/events/external-webinar-frontline-conversations-advancing-sud-care-in-clinical-practice/2026-05-06/
CATEGORIES:Virtual
END:VEVENT
BEGIN:VEVENT
DTSTART;TZID=America/Vancouver:20260507T150000
DTEND;TZID=America/Vancouver:20260507T160000
DTSTAMP:20260420T071749
CREATED:20260416T200122Z
LAST-MODIFIED:20260416T223230Z
UID:10002055-1778166000-1778169600@staging.wsha.org
SUMMARY:Delivering High-Value Heart Failure Care to Reduce Readmissions
DESCRIPTION:Click Here to Register
URL:https://staging.wsha.org/events/delivering-high-value-heart-failure-care-to-reduce-readmissions/
LOCATION:Zoom
CATEGORIES:Virtual
ATTACH;FMTTYPE=image/png:https://staging.wsha.org/webfoo/wp-content/uploads/Heart-Failure-Care-2-Reduce-Readmissions.png
ORGANIZER;CN="Rosemary Grant":MAILTO:RosemaryG@wsha.org
END:VEVENT
BEGIN:VEVENT
DTSTART;TZID=America/Vancouver:20260508T120000
DTEND;TZID=America/Vancouver:20260508T130000
DTSTAMP:20260420T071749
CREATED:20260326T204655Z
LAST-MODIFIED:20260326T211058Z
UID:10001946-1778241600-1778245200@staging.wsha.org
SUMMARY:External Webinar: Incorporating Lived/Living Experience into SUD Clinical Design
DESCRIPTION:This external webinar is hosted by University of Washington Addictions\, Drug & Alcohol Institute. \nJoin our three-part series showcasing how incorporating lived and living experience can transform substance use disorder (SUD) clinical design. Hear from facilitators\, healthcare professionals\, and community members who shape community advisory boards (CABs) and lived experience advisory boards (LEABs).\nTopics:\n\nMarch 27th – LEAB Facilitators: From Creation to Clinic Opening\nApril 3rd – Panel Discussion: CABs in Different Settings\nApril 10th – Panel Discussion: LEAB/CAB Member Perspectives\n\nSpeakers & Panelists:\n\nLeiLani Dawn\, MA-P\, CPSS\nMandy Sladky\, MSN\, RN\nTeresa Winstead\, PhD\, MA\nMandy Owens\, PhD\nTessa Frohe\, PhD\nDavid Almeida\, Program Coordinator\nMarlene Gallichan\, Peer Support Specialist\nOmeid Heidari\, PhD\, MPH\, ANP-C\nLEAB/CAB members from DESC ORCA Center\, Hobson SHIP Program\, CLEARS Project\, READU\, HaRRT Center\, and SAIA\n\nWho should attend: The intended audience for this series is for anyone in Washington State involved in the care of people who use drugs and people living with substance use disorder (SUD). All disciplines are welcome and encouraged to join. This webinar is funded by the State Opioid Response (SOR) grant from the Substance Abuse and Mental Health Services Administration (SAMHSA)\, and is provided by the University of Washington’s Addictions\, \nClick Here to Register Here
URL:https://staging.wsha.org/events/external-webinar-psychedelics-for-opioid-use-disorder-2/2026-05-08/
CATEGORIES:Virtual
END:VEVENT
BEGIN:VEVENT
DTSTART;TZID=America/Vancouver:20260514T083000
DTEND;TZID=America/Vancouver:20260514T153000
DTSTAMP:20260420T071749
CREATED:20260115T164506Z
LAST-MODIFIED:20260327T204859Z
UID:10001902-1778747400-1778772600@staging.wsha.org
SUMMARY:Safe Deliveries Roadmap Spring Conference
DESCRIPTION:Join us for the annual Safe Deliveries Roadmap Spring Conference \nThis is a hybrid conference- we welcome in person & online attendees.  \nOnce you register for the conference\, you will receive a calendar hold from the WSHA calendar\, which will contain additional details.  \n\nRegister Here!
URL:https://staging.wsha.org/events/safe-deliveries-roadmap-spring-conference/
LOCATION:Conference Center at SeaTac\, 17801 International Blvd\, SeaTac\, WA\, 98158\, United States
CATEGORIES:In-Person
ATTACH;FMTTYPE=image/png:https://staging.wsha.org/webfoo/wp-content/uploads/SDR-Spring-Conference-Flyer-2026.png
END:VEVENT
BEGIN:VEVENT
DTSTART;TZID=America/Vancouver:20260515T120000
DTEND;TZID=America/Vancouver:20260515T130000
DTSTAMP:20260420T071749
CREATED:20260326T204655Z
LAST-MODIFIED:20260326T211058Z
UID:10001947-1778846400-1778850000@staging.wsha.org
SUMMARY:External Webinar: Incorporating Lived/Living Experience into SUD Clinical Design
DESCRIPTION:This external webinar is hosted by University of Washington Addictions\, Drug & Alcohol Institute. \nJoin our three-part series showcasing how incorporating lived and living experience can transform substance use disorder (SUD) clinical design. Hear from facilitators\, healthcare professionals\, and community members who shape community advisory boards (CABs) and lived experience advisory boards (LEABs).\nTopics:\n\nMarch 27th – LEAB Facilitators: From Creation to Clinic Opening\nApril 3rd – Panel Discussion: CABs in Different Settings\nApril 10th – Panel Discussion: LEAB/CAB Member Perspectives\n\nSpeakers & Panelists:\n\nLeiLani Dawn\, MA-P\, CPSS\nMandy Sladky\, MSN\, RN\nTeresa Winstead\, PhD\, MA\nMandy Owens\, PhD\nTessa Frohe\, PhD\nDavid Almeida\, Program Coordinator\nMarlene Gallichan\, Peer Support Specialist\nOmeid Heidari\, PhD\, MPH\, ANP-C\nLEAB/CAB members from DESC ORCA Center\, Hobson SHIP Program\, CLEARS Project\, READU\, HaRRT Center\, and SAIA\n\nWho should attend: The intended audience for this series is for anyone in Washington State involved in the care of people who use drugs and people living with substance use disorder (SUD). All disciplines are welcome and encouraged to join. This webinar is funded by the State Opioid Response (SOR) grant from the Substance Abuse and Mental Health Services Administration (SAMHSA)\, and is provided by the University of Washington’s Addictions\, \nClick Here to Register Here
URL:https://staging.wsha.org/events/external-webinar-psychedelics-for-opioid-use-disorder-2/2026-05-15/
CATEGORIES:Virtual
END:VEVENT
BEGIN:VEVENT
DTSTART;TZID=America/Vancouver:20260522T100000
DTEND;TZID=America/Vancouver:20260522T110000
DTSTAMP:20260420T071749
CREATED:20260115T164456Z
LAST-MODIFIED:20260115T164456Z
UID:10001900-1779444000-1779447600@staging.wsha.org
SUMMARY:Naloxone Saturation Sprint Technical Assistance Session
DESCRIPTION:The Naloxone Saturation Sprint is a 5-month initiative designed to help obstetric departments implement naloxone in-hand distribution. Hospitals that agree to participate will receive:   \n\nFree naloxone kits  \nMedication lock bags \nImplementation materials \nMonthly technical assistance calls\n1:1 coaching as needed\nData collection resources \nSupport in gaining hospital leadership alignment \n\nWe are seeking obstetric department participants that are interested in implementing harm reduction strategies\, have emerging or established support for this work and can commit to collecting simple data about implementation.  \nTimeframe of the Sprint: February – June\, 2026 
URL:https://staging.wsha.org/events/naloxone-saturation-sprint-technical-assistance-session-4/
LOCATION:Zoom
CATEGORIES:Virtual
END:VEVENT
BEGIN:VEVENT
DTSTART;TZID=America/Vancouver:20260522T120000
DTEND;TZID=America/Vancouver:20260522T130000
DTSTAMP:20260420T071749
CREATED:20260326T204655Z
LAST-MODIFIED:20260326T211058Z
UID:10001948-1779451200-1779454800@staging.wsha.org
SUMMARY:External Webinar: Incorporating Lived/Living Experience into SUD Clinical Design
DESCRIPTION:This external webinar is hosted by University of Washington Addictions\, Drug & Alcohol Institute. \nJoin our three-part series showcasing how incorporating lived and living experience can transform substance use disorder (SUD) clinical design. Hear from facilitators\, healthcare professionals\, and community members who shape community advisory boards (CABs) and lived experience advisory boards (LEABs).\nTopics:\n\nMarch 27th – LEAB Facilitators: From Creation to Clinic Opening\nApril 3rd – Panel Discussion: CABs in Different Settings\nApril 10th – Panel Discussion: LEAB/CAB Member Perspectives\n\nSpeakers & Panelists:\n\nLeiLani Dawn\, MA-P\, CPSS\nMandy Sladky\, MSN\, RN\nTeresa Winstead\, PhD\, MA\nMandy Owens\, PhD\nTessa Frohe\, PhD\nDavid Almeida\, Program Coordinator\nMarlene Gallichan\, Peer Support Specialist\nOmeid Heidari\, PhD\, MPH\, ANP-C\nLEAB/CAB members from DESC ORCA Center\, Hobson SHIP Program\, CLEARS Project\, READU\, HaRRT Center\, and SAIA\n\nWho should attend: The intended audience for this series is for anyone in Washington State involved in the care of people who use drugs and people living with substance use disorder (SUD). All disciplines are welcome and encouraged to join. This webinar is funded by the State Opioid Response (SOR) grant from the Substance Abuse and Mental Health Services Administration (SAMHSA)\, and is provided by the University of Washington’s Addictions\, \nClick Here to Register Here
URL:https://staging.wsha.org/events/external-webinar-psychedelics-for-opioid-use-disorder-2/2026-05-22/
CATEGORIES:Virtual
END:VEVENT
BEGIN:VEVENT
DTSTART;TZID=America/Vancouver:20260522T120000
DTEND;TZID=America/Vancouver:20260522T130000
DTSTAMP:20260420T071749
CREATED:20260417T222159Z
LAST-MODIFIED:20260417T222159Z
UID:10002059-1779451200-1779454800@staging.wsha.org
SUMMARY:Spring Virtual Board Chair Roundtable
DESCRIPTION:The Board Chair roundtable is an opportunity to bring together Board Chairs from across the state to learn\, share and connect on issues facing Washington’s hospitals. The May 22 roundtable will address the growing financial pressures facing hospitals. The agenda will feature a brief presentation from WSHA CEO Cassie Sauer\, with the bulk of the time dedicated to discussion for peer-to-peer sharing and learning.  \n 
URL:https://staging.wsha.org/events/spring-virtual-board-chair-roundtable/
LOCATION:Zoom
CATEGORIES:Virtual
END:VEVENT
BEGIN:VEVENT
DTSTART;TZID=America/Vancouver:20260526T100000
DTEND;TZID=America/Vancouver:20260526T110000
DTSTAMP:20260420T071749
CREATED:20260304T220430Z
LAST-MODIFIED:20260304T220430Z
UID:10001927-1779789600-1779793200@staging.wsha.org
SUMMARY:SDOH Workgroup
DESCRIPTION:WA hospitals are invited to join the WSHA Social Drivers of Health (SDOH) Workgroup. The purpose of the workgroup is to support inpatient screening for health-related social needs\, improve documentation and reporting of SDOH measures and to develop referrals or programs to address patient-identified social needs. \nRegister Here
URL:https://staging.wsha.org/events/sdoh-workgroup/2026-05-26/
LOCATION:Zoom
CATEGORIES:Virtual
ORGANIZER;CN="Abby Berube":MAILTO:abigailb@wsha.org
END:VEVENT
BEGIN:VEVENT
DTSTART;TZID=America/Vancouver:20260529T083000
DTEND;TZID=America/Vancouver:20260529T150000
DTSTAMP:20260420T071749
CREATED:20260326T210628Z
LAST-MODIFIED:20260326T210628Z
UID:10002050-1780043400-1780066800@staging.wsha.org
SUMMARY:External Webinar: Two Depressants\, One Conversation: Addressing Alcohol Use among People with Opioid Use Disorder (Spokane)
DESCRIPTION:This external webinar is hosted by University of Washington Addictions\, Drug & Alcohol Institute. \nThis in-person training in Spokane\, WA will focus on practical\, evidence‑based approaches to alcohol withdrawal\, treatment\, and safer use. Participants will learn from clinical experts with experience from a variety of care settings and will explore medications\, therapy approaches\, and shared decision-making strategies. \nThis interactive training is designed to support real‑world implementation and cross‑system collaboration throughout Washington. \nKey Topics:\n\nAddressing acute alcohol withdrawal\nTreating alcohol use disorder in outpatient settings\nSafer use strategies for alcohol use\n\nWho should attend: The intended audience for this series is for anyone in Washington State involved in the care of people who use drugs and people living with substance use disorder (SUD). All disciplines are welcome and encouraged to join. \nQuestions? \nEmail: moscdal@uw.edu  \n\nClick Here to Register Here \nLearn More About Training in Western Washington 
URL:https://staging.wsha.org/events/external-webinar-two-depressants-one-conversation-addressing-alcohol-use-among-people-with-opioid-use-disorder-spokane/
LOCATION:University of Washington School of Medicine (Spokane)\, 840 E. Spokane Falls\, Blvd. #1\, Spokane\, WA\, 99202\, United States
CATEGORIES:In-Person
END:VEVENT
BEGIN:VEVENT
DTSTART;TZID=America/Vancouver:20260529T120000
DTEND;TZID=America/Vancouver:20260529T130000
DTSTAMP:20260420T071749
CREATED:20260326T204655Z
LAST-MODIFIED:20260326T211058Z
UID:10001949-1780056000-1780059600@staging.wsha.org
SUMMARY:External Webinar: Incorporating Lived/Living Experience into SUD Clinical Design
DESCRIPTION:This external webinar is hosted by University of Washington Addictions\, Drug & Alcohol Institute. \nJoin our three-part series showcasing how incorporating lived and living experience can transform substance use disorder (SUD) clinical design. Hear from facilitators\, healthcare professionals\, and community members who shape community advisory boards (CABs) and lived experience advisory boards (LEABs).\nTopics:\n\nMarch 27th – LEAB Facilitators: From Creation to Clinic Opening\nApril 3rd – Panel Discussion: CABs in Different Settings\nApril 10th – Panel Discussion: LEAB/CAB Member Perspectives\n\nSpeakers & Panelists:\n\nLeiLani Dawn\, MA-P\, CPSS\nMandy Sladky\, MSN\, RN\nTeresa Winstead\, PhD\, MA\nMandy Owens\, PhD\nTessa Frohe\, PhD\nDavid Almeida\, Program Coordinator\nMarlene Gallichan\, Peer Support Specialist\nOmeid Heidari\, PhD\, MPH\, ANP-C\nLEAB/CAB members from DESC ORCA Center\, Hobson SHIP Program\, CLEARS Project\, READU\, HaRRT Center\, and SAIA\n\nWho should attend: The intended audience for this series is for anyone in Washington State involved in the care of people who use drugs and people living with substance use disorder (SUD). All disciplines are welcome and encouraged to join. This webinar is funded by the State Opioid Response (SOR) grant from the Substance Abuse and Mental Health Services Administration (SAMHSA)\, and is provided by the University of Washington’s Addictions\, \nClick Here to Register Here
URL:https://staging.wsha.org/events/external-webinar-psychedelics-for-opioid-use-disorder-2/2026-05-29/
CATEGORIES:Virtual
END:VEVENT
END:VCALENDAR