BEGIN:VCALENDAR
VERSION:2.0
PRODID:-//Washington State Hospital Association - ECPv6.15.20//NONSGML v1.0//EN
CALSCALE:GREGORIAN
METHOD:PUBLISH
X-ORIGINAL-URL:https://staging.wsha.org
X-WR-CALDESC:Events for Washington State Hospital Association
REFRESH-INTERVAL;VALUE=DURATION:PT1H
X-Robots-Tag:noindex
X-PUBLISHED-TTL:PT1H
BEGIN:VTIMEZONE
TZID:America/Vancouver
BEGIN:DAYLIGHT
TZOFFSETFROM:-0800
TZOFFSETTO:-0700
TZNAME:PDT
DTSTART:20250309T100000
END:DAYLIGHT
BEGIN:STANDARD
TZOFFSETFROM:-0700
TZOFFSETTO:-0800
TZNAME:PST
DTSTART:20251102T090000
END:STANDARD
BEGIN:DAYLIGHT
TZOFFSETFROM:-0800
TZOFFSETTO:-0700
TZNAME:PDT
DTSTART:20260308T100000
END:DAYLIGHT
BEGIN:STANDARD
TZOFFSETFROM:-0700
TZOFFSETTO:-0800
TZNAME:PST
DTSTART:20261101T090000
END:STANDARD
BEGIN:DAYLIGHT
TZOFFSETFROM:-0800
TZOFFSETTO:-0700
TZNAME:PDT
DTSTART:20270314T100000
END:DAYLIGHT
BEGIN:STANDARD
TZOFFSETFROM:-0700
TZOFFSETTO:-0800
TZNAME:PST
DTSTART:20271107T090000
END:STANDARD
END:VTIMEZONE
BEGIN:VEVENT
DTSTART;VALUE=DATE:20260628
DTEND;VALUE=DATE:20260702
DTSTAMP:20260420T161940
CREATED:20260115T164539Z
LAST-MODIFIED:20260417T170737Z
UID:10001914-1782604800-1782950399@staging.wsha.org
SUMMARY:2026 AWPHD & WSHA Rural Hospital Leadership Conference
DESCRIPTION:REGISTER NOW! \nAudience: Rural & Public Hospital District C-Suite Leaders\, Board Members\, Trustees\, and Commissioners \n\nAttire: Resort Casual \n\nConference Agenda (subject to change) \nSunday\, June 28 \n3:00 – 8:00 pm: Registration \nMonday\, June 29 \n8:00 – 9:00 am: Breakfast \n9:00 am: Welcome & Opening Remarks \n9:10 – 9:30 am: AWPHD All-Member Meeting  \n9:30 – 10:30 am: Conference programming TBA \n10:45 – 11:45 am: Breakouts \n\nBreakout TBA\nPublic Records Act | Harry Boesche\, MRSC\n\n12:00 – 12:45 pm: Networking Lunch \n1:00 – 1:45 pm: Breakouts \n\nThe Art of an Effective Board Meeting | Florence Di Benedetto (Board Chairs & CEOs only)\nBoard Ethics & Conflict of Interest 201 | Jeff Sconyers & Taya Briley\n\n2:00 – 3:00 pm: Financial Distress in Hospitals: What Boards Need to Know\, Do and Say | Jason Hotchkiss & Beth Zborowski + Member panel \n3:00 – 4:00 pm: Governance Unscripted: You’re the Board. What Would You Do? \n4:00 – 5:00 pm: Reception on the Terrace (Conference attendees only) \nTuesday\, June 30 \n8:00 – 9:00 am: Breakfast  \n9:00 – 10:00 am: Conference programming TBA \n10:15 – 11:15 am: Breakouts \n\nBreakout TBA\nDivision of Labor: What Work Does Your Board Take On & How | Member panel\n\n11:30 am – 1:00 pm: Lunch\n11:30 am – 1:00 pm: CEO & Board Chair Lunch\n12:00 pm – 1:00 pm: Everyday Practice of OPMA & Structure of Committees | Harry Boesche\, MRSC \n1:00 – 2:00 pm: Define\, Identify and Manage Risk in Healthcare | Florence Di Benedetto \n5:30 – 7:30 pm: BBQ on the Beach* \n*2026 BBQ on the Beach guest policy: Every conference registration includes one 21+ BBQ on the Beach guest. Additional 21+ BBQ on the Beach guests require the purchase of a guest ticket ($50). There is no charge for BBQ on the Beach guests under 21. \nWednesday\, July 1 \n9:00 am – 10:00 am: Leading Together: The CEO-Board Chair Partnership | Member panel \n10:00 – 11:00 am: Innovation in Action: How Hospitals are Shaping the Future of Care | Member panel \n11:00 am – 12:00 pm: WSHA Legislative Update | Jacqueline Barton True\, Cassie Sauer & Chelene Whiteaker \n\nLodging Information \nPlease contact Campbell’s at 800-553-8225 to inquire about lodging availability and reference our group block number 608140 and block name: WA St Hospital Association. If they are sold out\, they can place you on their waiting list in case of cancellations.   \nWe have coordinated an additional room block with Lakeside Lodge which is 6-minutes away from Campbell’s. To book within our room block\, please contact Lakeside 509-682-4396 and reference the Washington State Hospital Association room block. \n\nThank You\, Sponsors!
URL:https://staging.wsha.org/events/2026-awphd-wsha-rural-hospital-leadership-conference/
CATEGORIES:In-Person
END:VEVENT
BEGIN:VEVENT
DTSTART;TZID=America/Vancouver:20260703T120000
DTEND;TZID=America/Vancouver:20260703T130000
DTSTAMP:20260420T161940
CREATED:20260326T204655Z
LAST-MODIFIED:20260326T211058Z
UID:10001954-1783080000-1783083600@staging.wsha.org
SUMMARY:External Webinar: Incorporating Lived/Living Experience into SUD Clinical Design
DESCRIPTION:This external webinar is hosted by University of Washington Addictions\, Drug & Alcohol Institute. \nJoin our three-part series showcasing how incorporating lived and living experience can transform substance use disorder (SUD) clinical design. Hear from facilitators\, healthcare professionals\, and community members who shape community advisory boards (CABs) and lived experience advisory boards (LEABs).\nTopics:\n\nMarch 27th – LEAB Facilitators: From Creation to Clinic Opening\nApril 3rd – Panel Discussion: CABs in Different Settings\nApril 10th – Panel Discussion: LEAB/CAB Member Perspectives\n\nSpeakers & Panelists:\n\nLeiLani Dawn\, MA-P\, CPSS\nMandy Sladky\, MSN\, RN\nTeresa Winstead\, PhD\, MA\nMandy Owens\, PhD\nTessa Frohe\, PhD\nDavid Almeida\, Program Coordinator\nMarlene Gallichan\, Peer Support Specialist\nOmeid Heidari\, PhD\, MPH\, ANP-C\nLEAB/CAB members from DESC ORCA Center\, Hobson SHIP Program\, CLEARS Project\, READU\, HaRRT Center\, and SAIA\n\nWho should attend: The intended audience for this series is for anyone in Washington State involved in the care of people who use drugs and people living with substance use disorder (SUD). All disciplines are welcome and encouraged to join. This webinar is funded by the State Opioid Response (SOR) grant from the Substance Abuse and Mental Health Services Administration (SAMHSA)\, and is provided by the University of Washington’s Addictions\, \nClick Here to Register Here
URL:https://staging.wsha.org/events/external-webinar-psychedelics-for-opioid-use-disorder-2/2026-07-03/
CATEGORIES:Virtual
END:VEVENT
BEGIN:VEVENT
DTSTART;TZID=America/Vancouver:20260709T120000
DTEND;TZID=America/Vancouver:20260709T130000
DTSTAMP:20260420T161940
CREATED:20260115T164523Z
LAST-MODIFIED:20260115T164523Z
UID:10001909-1783598400-1783602000@staging.wsha.org
SUMMARY:SDR Monthly Webinar
DESCRIPTION:Once registered\, you will be registered for the entire 2026 monthly series. \nYou will receive a calendar invite from the WSHA calendar (no need to download directly from the registration- the calendar hold directly from the website will not update if there are any changes) \n  \nPlease reach out to leighs@wsha.org for any registration questions!
URL:https://staging.wsha.org/events/sdr-monthly-webinar-6/
LOCATION:Zoom
CATEGORIES:Virtual
END:VEVENT
BEGIN:VEVENT
DTSTART;TZID=America/Vancouver:20260710T120000
DTEND;TZID=America/Vancouver:20260710T130000
DTSTAMP:20260420T161940
CREATED:20260326T204655Z
LAST-MODIFIED:20260326T211058Z
UID:10001955-1783684800-1783688400@staging.wsha.org
SUMMARY:External Webinar: Incorporating Lived/Living Experience into SUD Clinical Design
DESCRIPTION:This external webinar is hosted by University of Washington Addictions\, Drug & Alcohol Institute. \nJoin our three-part series showcasing how incorporating lived and living experience can transform substance use disorder (SUD) clinical design. Hear from facilitators\, healthcare professionals\, and community members who shape community advisory boards (CABs) and lived experience advisory boards (LEABs).\nTopics:\n\nMarch 27th – LEAB Facilitators: From Creation to Clinic Opening\nApril 3rd – Panel Discussion: CABs in Different Settings\nApril 10th – Panel Discussion: LEAB/CAB Member Perspectives\n\nSpeakers & Panelists:\n\nLeiLani Dawn\, MA-P\, CPSS\nMandy Sladky\, MSN\, RN\nTeresa Winstead\, PhD\, MA\nMandy Owens\, PhD\nTessa Frohe\, PhD\nDavid Almeida\, Program Coordinator\nMarlene Gallichan\, Peer Support Specialist\nOmeid Heidari\, PhD\, MPH\, ANP-C\nLEAB/CAB members from DESC ORCA Center\, Hobson SHIP Program\, CLEARS Project\, READU\, HaRRT Center\, and SAIA\n\nWho should attend: The intended audience for this series is for anyone in Washington State involved in the care of people who use drugs and people living with substance use disorder (SUD). All disciplines are welcome and encouraged to join. This webinar is funded by the State Opioid Response (SOR) grant from the Substance Abuse and Mental Health Services Administration (SAMHSA)\, and is provided by the University of Washington’s Addictions\, \nClick Here to Register Here
URL:https://staging.wsha.org/events/external-webinar-psychedelics-for-opioid-use-disorder-2/2026-07-10/
CATEGORIES:Virtual
END:VEVENT
BEGIN:VEVENT
DTSTART;TZID=America/Vancouver:20260715T100000
DTEND;TZID=America/Vancouver:20260715T140000
DTSTAMP:20260420T161940
CREATED:20260416T224521Z
LAST-MODIFIED:20260416T224521Z
UID:10002057-1784109600-1784124000@staging.wsha.org
SUMMARY:Rural Quality Roundtable - Columbia County Health
DESCRIPTION:Topic: Workplace Violence \n10:00am – 2:00pm\nAgenda to include: lunch\, hospital tour\, QI topic \nRegister here\n \nWhile rural hospitals are the primary audience\, urban hospitals in the region are welcome to attend. WSHA member hospitals only
URL:https://staging.wsha.org/events/rural-quality-roundtable-columbia-county-health/
CATEGORIES:In-Person
ORGANIZER;CN="Megan Herman":MAILTO:meganh@wsha.org
END:VEVENT
BEGIN:VEVENT
DTSTART;TZID=America/Vancouver:20260717T120000
DTEND;TZID=America/Vancouver:20260717T130000
DTSTAMP:20260420T161940
CREATED:20260326T204655Z
LAST-MODIFIED:20260326T211058Z
UID:10001956-1784289600-1784293200@staging.wsha.org
SUMMARY:External Webinar: Incorporating Lived/Living Experience into SUD Clinical Design
DESCRIPTION:This external webinar is hosted by University of Washington Addictions\, Drug & Alcohol Institute. \nJoin our three-part series showcasing how incorporating lived and living experience can transform substance use disorder (SUD) clinical design. Hear from facilitators\, healthcare professionals\, and community members who shape community advisory boards (CABs) and lived experience advisory boards (LEABs).\nTopics:\n\nMarch 27th – LEAB Facilitators: From Creation to Clinic Opening\nApril 3rd – Panel Discussion: CABs in Different Settings\nApril 10th – Panel Discussion: LEAB/CAB Member Perspectives\n\nSpeakers & Panelists:\n\nLeiLani Dawn\, MA-P\, CPSS\nMandy Sladky\, MSN\, RN\nTeresa Winstead\, PhD\, MA\nMandy Owens\, PhD\nTessa Frohe\, PhD\nDavid Almeida\, Program Coordinator\nMarlene Gallichan\, Peer Support Specialist\nOmeid Heidari\, PhD\, MPH\, ANP-C\nLEAB/CAB members from DESC ORCA Center\, Hobson SHIP Program\, CLEARS Project\, READU\, HaRRT Center\, and SAIA\n\nWho should attend: The intended audience for this series is for anyone in Washington State involved in the care of people who use drugs and people living with substance use disorder (SUD). All disciplines are welcome and encouraged to join. This webinar is funded by the State Opioid Response (SOR) grant from the Substance Abuse and Mental Health Services Administration (SAMHSA)\, and is provided by the University of Washington’s Addictions\, \nClick Here to Register Here
URL:https://staging.wsha.org/events/external-webinar-psychedelics-for-opioid-use-disorder-2/2026-07-17/
CATEGORIES:Virtual
END:VEVENT
BEGIN:VEVENT
DTSTART;TZID=America/Vancouver:20260724T120000
DTEND;TZID=America/Vancouver:20260724T130000
DTSTAMP:20260420T161940
CREATED:20260326T204655Z
LAST-MODIFIED:20260326T211058Z
UID:10001957-1784894400-1784898000@staging.wsha.org
SUMMARY:External Webinar: Incorporating Lived/Living Experience into SUD Clinical Design
DESCRIPTION:This external webinar is hosted by University of Washington Addictions\, Drug & Alcohol Institute. \nJoin our three-part series showcasing how incorporating lived and living experience can transform substance use disorder (SUD) clinical design. Hear from facilitators\, healthcare professionals\, and community members who shape community advisory boards (CABs) and lived experience advisory boards (LEABs).\nTopics:\n\nMarch 27th – LEAB Facilitators: From Creation to Clinic Opening\nApril 3rd – Panel Discussion: CABs in Different Settings\nApril 10th – Panel Discussion: LEAB/CAB Member Perspectives\n\nSpeakers & Panelists:\n\nLeiLani Dawn\, MA-P\, CPSS\nMandy Sladky\, MSN\, RN\nTeresa Winstead\, PhD\, MA\nMandy Owens\, PhD\nTessa Frohe\, PhD\nDavid Almeida\, Program Coordinator\nMarlene Gallichan\, Peer Support Specialist\nOmeid Heidari\, PhD\, MPH\, ANP-C\nLEAB/CAB members from DESC ORCA Center\, Hobson SHIP Program\, CLEARS Project\, READU\, HaRRT Center\, and SAIA\n\nWho should attend: The intended audience for this series is for anyone in Washington State involved in the care of people who use drugs and people living with substance use disorder (SUD). All disciplines are welcome and encouraged to join. This webinar is funded by the State Opioid Response (SOR) grant from the Substance Abuse and Mental Health Services Administration (SAMHSA)\, and is provided by the University of Washington’s Addictions\, \nClick Here to Register Here
URL:https://staging.wsha.org/events/external-webinar-psychedelics-for-opioid-use-disorder-2/2026-07-24/
CATEGORIES:Virtual
END:VEVENT
BEGIN:VEVENT
DTSTART;TZID=America/Vancouver:20260728T100000
DTEND;TZID=America/Vancouver:20260728T110000
DTSTAMP:20260420T161940
CREATED:20260304T220430Z
LAST-MODIFIED:20260304T220430Z
UID:10001929-1785232800-1785236400@staging.wsha.org
SUMMARY:SDOH Workgroup
DESCRIPTION:WA hospitals are invited to join the WSHA Social Drivers of Health (SDOH) Workgroup. The purpose of the workgroup is to support inpatient screening for health-related social needs\, improve documentation and reporting of SDOH measures and to develop referrals or programs to address patient-identified social needs. \nRegister Here
URL:https://staging.wsha.org/events/sdoh-workgroup/2026-07-28/
LOCATION:Zoom
CATEGORIES:Virtual
ORGANIZER;CN="Abby Berube":MAILTO:abigailb@wsha.org
END:VEVENT
BEGIN:VEVENT
DTSTART;TZID=America/Vancouver:20260731T120000
DTEND;TZID=America/Vancouver:20260731T130000
DTSTAMP:20260420T161940
CREATED:20260326T204655Z
LAST-MODIFIED:20260326T211058Z
UID:10001958-1785499200-1785502800@staging.wsha.org
SUMMARY:External Webinar: Incorporating Lived/Living Experience into SUD Clinical Design
DESCRIPTION:This external webinar is hosted by University of Washington Addictions\, Drug & Alcohol Institute. \nJoin our three-part series showcasing how incorporating lived and living experience can transform substance use disorder (SUD) clinical design. Hear from facilitators\, healthcare professionals\, and community members who shape community advisory boards (CABs) and lived experience advisory boards (LEABs).\nTopics:\n\nMarch 27th – LEAB Facilitators: From Creation to Clinic Opening\nApril 3rd – Panel Discussion: CABs in Different Settings\nApril 10th – Panel Discussion: LEAB/CAB Member Perspectives\n\nSpeakers & Panelists:\n\nLeiLani Dawn\, MA-P\, CPSS\nMandy Sladky\, MSN\, RN\nTeresa Winstead\, PhD\, MA\nMandy Owens\, PhD\nTessa Frohe\, PhD\nDavid Almeida\, Program Coordinator\nMarlene Gallichan\, Peer Support Specialist\nOmeid Heidari\, PhD\, MPH\, ANP-C\nLEAB/CAB members from DESC ORCA Center\, Hobson SHIP Program\, CLEARS Project\, READU\, HaRRT Center\, and SAIA\n\nWho should attend: The intended audience for this series is for anyone in Washington State involved in the care of people who use drugs and people living with substance use disorder (SUD). All disciplines are welcome and encouraged to join. This webinar is funded by the State Opioid Response (SOR) grant from the Substance Abuse and Mental Health Services Administration (SAMHSA)\, and is provided by the University of Washington’s Addictions\, \nClick Here to Register Here
URL:https://staging.wsha.org/events/external-webinar-psychedelics-for-opioid-use-disorder-2/2026-07-31/
CATEGORIES:Virtual
END:VEVENT
END:VCALENDAR